BEGIN:VCALENDAR
VERSION:2.0
PRODID:-//NSP - Western Appalachian Region - ECPv6.0.1.1//NONSGML v1.0//EN
CALSCALE:GREGORIAN
METHOD:PUBLISH
X-ORIGINAL-URL:http://www.nspwar.org/wordpress
X-WR-CALDESC:Events for NSP - Western Appalachian Region
REFRESH-INTERVAL;VALUE=DURATION:PT1H
X-Robots-Tag:noindex
X-PUBLISHED-TTL:PT1H
BEGIN:VTIMEZONE
TZID:UTC
BEGIN:STANDARD
TZOFFSETFROM:+0000
TZOFFSETTO:+0000
TZNAME:UTC
DTSTART:20190101T000000
END:STANDARD
END:VTIMEZONE
BEGIN:VEVENT
DTSTART;TZID=UTC:20190112T080000
DTEND;TZID=UTC:20190112T170000
DTSTAMP:20260424T181328
CREATED:20181217T080622Z
LAST-MODIFIED:20181217T080622Z
UID:560-1547280000-1547312400@www.nspwar.org
SUMMARY:Senior OET Clinic @ Canaan
DESCRIPTION:TES Course #: Q063190003
URL:http://www.nspwar.org/wordpress/event/senior-oet-clinic-canaan/
LOCATION:Canaan Valley\, 230 Main Lodge Road\, Davis\, WV\, 26260\, United States
CATEGORIES:Senior OET
END:VEVENT
END:VCALENDAR