BEGIN:VCALENDAR
VERSION:2.0
PRODID:-//NSP - Western Appalachian Region - ECPv6.0.1.1//NONSGML v1.0//EN
CALSCALE:GREGORIAN
METHOD:PUBLISH
X-WR-CALNAME:NSP - Western Appalachian Region
X-ORIGINAL-URL:http://www.nspwar.org/wordpress
X-WR-CALDESC:Events for NSP - Western Appalachian Region
REFRESH-INTERVAL;VALUE=DURATION:PT1H
X-Robots-Tag:noindex
X-PUBLISHED-TTL:PT1H
BEGIN:VTIMEZONE
TZID:UTC
BEGIN:STANDARD
TZOFFSETFROM:+0000
TZOFFSETTO:+0000
TZNAME:UTC
DTSTART:20190101T000000
END:STANDARD
END:VTIMEZONE
BEGIN:VEVENT
DTSTART;TZID=UTC:20190113T080000
DTEND;TZID=UTC:20190113T170000
DTSTAMP:20260424T181235
CREATED:20181107T073037Z
LAST-MODIFIED:20181217T080804Z
UID:536-1547366400-1547398800@www.nspwar.org
SUMMARY:Senior OET Clinic @ WISP
DESCRIPTION:TES Course #: E361190002
URL:http://www.nspwar.org/wordpress/event/oet-clinic-wisp/
LOCATION:Wisp\, 296 Marsh Hill Road\, McHenry\, MD\, 21541\, United States
CATEGORIES:Senior OET
END:VEVENT
END:VCALENDAR