BEGIN:VCALENDAR
VERSION:2.0
PRODID:-//NSP - Western Appalachian Region - ECPv6.0.1.1//NONSGML v1.0//EN
CALSCALE:GREGORIAN
METHOD:PUBLISH
X-WR-CALNAME:NSP - Western Appalachian Region
X-ORIGINAL-URL:http://www.nspwar.org/wordpress
X-WR-CALDESC:Events for NSP - Western Appalachian Region
REFRESH-INTERVAL;VALUE=DURATION:PT1H
X-Robots-Tag:noindex
X-PUBLISHED-TTL:PT1H
BEGIN:VTIMEZONE
TZID:UTC
BEGIN:STANDARD
TZOFFSETFROM:+0000
TZOFFSETTO:+0000
TZNAME:UTC
DTSTART:20190101T000000
END:STANDARD
END:VTIMEZONE
BEGIN:VEVENT
DTSTART;TZID=UTC:20190203T080000
DTEND;TZID=UTC:20190203T170000
DTSTAMP:20260424T165053
CREATED:20181107T065923Z
LAST-MODIFIED:20181107T065923Z
UID:516-1549180800-1549213200@www.nspwar.org
SUMMARY:Senior EMM Clinic @ Hidden Valley
DESCRIPTION:Course #: E286190003
URL:http://www.nspwar.org/wordpress/event/senior-emm-clinic-hidden-valley-2/
LOCATION:Hidden Valley\, 1 Craighead Rd\, Hidden Valley\, PA\, 15502\, United States
CATEGORIES:Senior EMM
END:VEVENT
BEGIN:VEVENT
DTSTART;TZID=UTC:20190203T080000
DTEND;TZID=UTC:20190203T170000
DTSTAMP:20260424T165053
CREATED:20181107T071429Z
LAST-MODIFIED:20181107T071429Z
UID:525-1549180800-1549213200@www.nspwar.org
SUMMARY:Senior OET Clinic/Toboggan Clinic @ Blue Knob
DESCRIPTION:Course #: Q063190001
URL:http://www.nspwar.org/wordpress/event/senior-oet-clinic-toboggan-clinic-blue-knob/
LOCATION:Blue Knob\, 1424 Overland Pass\, Claysburg\, PA\, 16625
CATEGORIES:Senior OET
END:VEVENT
END:VCALENDAR