BEGIN:VCALENDAR
VERSION:2.0
PRODID:-//NSP - Western Appalachian Region - ECPv6.0.1.1//NONSGML v1.0//EN
CALSCALE:GREGORIAN
METHOD:PUBLISH
X-WR-CALNAME:NSP - Western Appalachian Region
X-ORIGINAL-URL:http://www.nspwar.org/wordpress
X-WR-CALDESC:Events for NSP - Western Appalachian Region
REFRESH-INTERVAL;VALUE=DURATION:PT1H
X-Robots-Tag:noindex
X-PUBLISHED-TTL:PT1H
BEGIN:VTIMEZONE
TZID:UTC
BEGIN:STANDARD
TZOFFSETFROM:+0000
TZOFFSETTO:+0000
TZNAME:UTC
DTSTART:20190101T000000
END:STANDARD
END:VTIMEZONE
BEGIN:VEVENT
DTSTART;TZID=UTC:20190223T080000
DTEND;TZID=UTC:20190224T170000
DTSTAMP:20260421T023336
CREATED:20181107T072009Z
LAST-MODIFIED:20181217T081454Z
UID:531-1550908800-1551027600@www.nspwar.org
SUMMARY:Patroller School @ Seven Springs
DESCRIPTION:Patroller School\, TE Exam/Recert\, Woman’s Clinic \n 
URL:http://www.nspwar.org/wordpress/event/patroller-school-seven-springs/
LOCATION:Seven Springs\, 777 Waterwheel Dr\, Seven Springs\, PA\, 15622\, United States
CATEGORIES:Patroller School
END:VEVENT
BEGIN:VEVENT
DTSTART;TZID=UTC:20190224T080000
DTEND;TZID=UTC:20190224T170000
DTSTAMP:20260421T023336
CREATED:20181107T065720Z
LAST-MODIFIED:20181107T065819Z
UID:514-1550995200-1551027600@www.nspwar.org
SUMMARY:Senior EMM Clinic @ TBD
DESCRIPTION:Course #: E286190004
URL:http://www.nspwar.org/wordpress/event/senior-emm-clinic-tbd/
LOCATION:PA
CATEGORIES:Senior EMM
END:VEVENT
END:VCALENDAR