BEGIN:VCALENDAR
VERSION:2.0
PRODID:-//NSP - Western Appalachian Region - ECPv6.0.1.1//NONSGML v1.0//EN
CALSCALE:GREGORIAN
METHOD:PUBLISH
X-ORIGINAL-URL:http://www.nspwar.org/wordpress
X-WR-CALDESC:Events for NSP - Western Appalachian Region
REFRESH-INTERVAL;VALUE=DURATION:PT1H
X-Robots-Tag:noindex
X-PUBLISHED-TTL:PT1H
BEGIN:VTIMEZONE
TZID:UTC
BEGIN:STANDARD
TZOFFSETFROM:+0000
TZOFFSETTO:+0000
TZNAME:UTC
DTSTART:20190101T000000
END:STANDARD
END:VTIMEZONE
BEGIN:VEVENT
DTSTART;TZID=UTC:20190302T080000
DTEND;TZID=UTC:20190302T170000
DTSTAMP:20260424T151432
CREATED:20181107T071752Z
LAST-MODIFIED:20190226T225706Z
UID:529-1551513600-1551546000@www.nspwar.org
SUMMARY:Senior OET Clinic @ Seven Springs\, starts @ 8:30a
DESCRIPTION:Course #: Q063190005
URL:http://www.nspwar.org/wordpress/event/senior-oet-clinic-seven-springs/
LOCATION:Seven Springs\, 777 Waterwheel Dr\, Seven Springs\, PA\, 15622\, United States
CATEGORIES:Senior OET
END:VEVENT
END:VCALENDAR