BEGIN:VCALENDAR
VERSION:2.0
PRODID:-//NSP - Western Appalachian Region - ECPv6.0.1.1//NONSGML v1.0//EN
CALSCALE:GREGORIAN
METHOD:PUBLISH
X-ORIGINAL-URL:http://www.nspwar.org/wordpress
X-WR-CALDESC:Events for NSP - Western Appalachian Region
REFRESH-INTERVAL;VALUE=DURATION:PT1H
X-Robots-Tag:noindex
X-PUBLISHED-TTL:PT1H
BEGIN:VTIMEZONE
TZID:UTC
BEGIN:STANDARD
TZOFFSETFROM:+0000
TZOFFSETTO:+0000
TZNAME:UTC
DTSTART:20190101T000000
END:STANDARD
END:VTIMEZONE
BEGIN:VEVENT
DTSTART;TZID=UTC:20190907T080000
DTEND;TZID=UTC:20190907T170000
DTSTAMP:20260422T202955
CREATED:20190406T011802Z
LAST-MODIFIED:20190816T232453Z
UID:599-1567843200-1567875600@www.nspwar.org
SUMMARY:Laurel Mountain Refresher
DESCRIPTION:This refresher is full and no further registration will be accepted.
URL:http://www.nspwar.org/wordpress/event/laurel-mountain-refresher/
LOCATION:Barn
CATEGORIES:OEC Refresher
END:VEVENT
END:VCALENDAR