BEGIN:VCALENDAR
VERSION:2.0
PRODID:-//NSP - Western Appalachian Region - ECPv6.0.1.1//NONSGML v1.0//EN
CALSCALE:GREGORIAN
METHOD:PUBLISH
X-WR-CALNAME:NSP - Western Appalachian Region
X-ORIGINAL-URL:http://www.nspwar.org/wordpress
X-WR-CALDESC:Events for NSP - Western Appalachian Region
REFRESH-INTERVAL;VALUE=DURATION:PT1H
X-Robots-Tag:noindex
X-PUBLISHED-TTL:PT1H
BEGIN:VTIMEZONE
TZID:UTC
BEGIN:STANDARD
TZOFFSETFROM:+0000
TZOFFSETTO:+0000
TZNAME:UTC
DTSTART:20190101T000000
END:STANDARD
END:VTIMEZONE
BEGIN:VEVENT
DTSTART;TZID=UTC:20191027T080000
DTEND;TZID=UTC:20191027T170000
DTSTAMP:20260422T201823
CREATED:20190406T013854Z
LAST-MODIFIED:20190406T013854Z
UID:618-1572163200-1572195600@www.nspwar.org
SUMMARY:Wisp Refresher
DESCRIPTION:
URL:http://www.nspwar.org/wordpress/event/wisp-refresher/
LOCATION:Wisp\, 296 Marsh Hill Road\, McHenry\, MD\, 21541\, United States
CATEGORIES:OEC Refresher
END:VEVENT
END:VCALENDAR