BEGIN:VCALENDAR
VERSION:2.0
PRODID:-//NSP - Western Appalachian Region - ECPv6.0.1.1//NONSGML v1.0//EN
CALSCALE:GREGORIAN
METHOD:PUBLISH
X-WR-CALNAME:NSP - Western Appalachian Region
X-ORIGINAL-URL:http://www.nspwar.org/wordpress
X-WR-CALDESC:Events for NSP - Western Appalachian Region
REFRESH-INTERVAL;VALUE=DURATION:PT1H
X-Robots-Tag:noindex
X-PUBLISHED-TTL:PT1H
BEGIN:VTIMEZONE
TZID:UTC
BEGIN:STANDARD
TZOFFSETFROM:+0000
TZOFFSETTO:+0000
TZNAME:UTC
DTSTART:20190101T000000
END:STANDARD
END:VTIMEZONE
BEGIN:VEVENT
DTSTART;TZID=UTC:20191221T080000
DTEND;TZID=UTC:20191221T170000
DTSTAMP:20260422T201839
CREATED:20191221T071052Z
LAST-MODIFIED:20191221T071430Z
UID:792-1576915200-1576947600@www.nspwar.org
SUMMARY:OET Staff Event @ Seven Springs
DESCRIPTION:TTW Course #: Q063190015\nOET IC Course #: Q063190016
URL:http://www.nspwar.org/wordpress/event/oet-staff-event-seven-springs/
LOCATION:Seven Springs\, 777 Waterwheel Dr\, Seven Springs\, PA\, 15622\, United States
CATEGORIES:OET
END:VEVENT
END:VCALENDAR