BEGIN:VCALENDAR
VERSION:2.0
PRODID:-//NSP - Western Appalachian Region - ECPv6.0.1.1//NONSGML v1.0//EN
CALSCALE:GREGORIAN
METHOD:PUBLISH
X-WR-CALNAME:NSP - Western Appalachian Region
X-ORIGINAL-URL:http://www.nspwar.org/wordpress
X-WR-CALDESC:Events for NSP - Western Appalachian Region
REFRESH-INTERVAL;VALUE=DURATION:PT1H
X-Robots-Tag:noindex
X-PUBLISHED-TTL:PT1H
BEGIN:VTIMEZONE
TZID:America/New_York
BEGIN:DAYLIGHT
TZOFFSETFROM:-0500
TZOFFSETTO:-0400
TZNAME:EDT
DTSTART:20200308T070000
END:DAYLIGHT
BEGIN:STANDARD
TZOFFSETFROM:-0400
TZOFFSETTO:-0500
TZNAME:EST
DTSTART:20201101T060000
END:STANDARD
END:VTIMEZONE
BEGIN:VEVENT
DTSTART;TZID=America/New_York:20200222T080000
DTEND;TZID=America/New_York:20200222T170000
DTSTAMP:20260422T201916
CREATED:20191221T065934Z
LAST-MODIFIED:20200219T181627Z
UID:778-1582358400-1582390800@www.nspwar.org
SUMMARY:OET Senior Clinic @ Seven Springs
DESCRIPTION:Course #: Q063200003 – Toboggan Enhancement Seminar/Senior OET Clinic\nUpdated on Feb 19th to new location.
URL:http://www.nspwar.org/wordpress/event/oet-senior-clinic-blue-knob/
LOCATION:PA
CATEGORIES:Senior OET
END:VEVENT
END:VCALENDAR