BEGIN:VCALENDAR
VERSION:2.0
PRODID:-//NSP - Western Appalachian Region - ECPv6.0.1.1//NONSGML v1.0//EN
CALSCALE:GREGORIAN
METHOD:PUBLISH
X-WR-CALNAME:NSP - Western Appalachian Region
X-ORIGINAL-URL:http://www.nspwar.org/wordpress
X-WR-CALDESC:Events for NSP - Western Appalachian Region
REFRESH-INTERVAL;VALUE=DURATION:PT1H
X-Robots-Tag:noindex
X-PUBLISHED-TTL:PT1H
BEGIN:VTIMEZONE
TZID:America/New_York
BEGIN:DAYLIGHT
TZOFFSETFROM:-0500
TZOFFSETTO:-0400
TZNAME:EDT
DTSTART:20230312T070000
END:DAYLIGHT
BEGIN:STANDARD
TZOFFSETFROM:-0400
TZOFFSETTO:-0500
TZNAME:EST
DTSTART:20231105T060000
END:STANDARD
END:VTIMEZONE
BEGIN:VEVENT
DTSTART;TZID=America/New_York:20231028T090000
DTEND;TZID=America/New_York:20231028T150000
DTSTAMP:20260420T222553
CREATED:20230530T004251Z
LAST-MODIFIED:20230530T004858Z
UID:1266-1698483600-1698505200@www.nspwar.org
SUMMARY:Senior EMM Clinic
DESCRIPTION:Bring a Lunch
URL:http://www.nspwar.org/wordpress/event/senior-emm-clinic/
LOCATION:Hidden Vallley / Seven Springs
CATEGORIES:Senior EMM
ORGANIZER;CN="Bryant%20Hall":MAILTO:medicahall@comcast.net
END:VEVENT
END:VCALENDAR