BEGIN:VCALENDAR
VERSION:2.0
PRODID:-//NSP - Western Appalachian Region - ECPv6.0.1.1//NONSGML v1.0//EN
CALSCALE:GREGORIAN
METHOD:PUBLISH
X-ORIGINAL-URL:http://www.nspwar.org/wordpress
X-WR-CALDESC:Events for NSP - Western Appalachian Region
REFRESH-INTERVAL;VALUE=DURATION:PT1H
X-Robots-Tag:noindex
X-PUBLISHED-TTL:PT1H
BEGIN:VTIMEZONE
TZID:America/New_York
BEGIN:DAYLIGHT
TZOFFSETFROM:-0500
TZOFFSETTO:-0400
TZNAME:EDT
DTSTART:20240310T070000
END:DAYLIGHT
BEGIN:STANDARD
TZOFFSETFROM:-0400
TZOFFSETTO:-0500
TZNAME:EST
DTSTART:20241103T060000
END:STANDARD
END:VTIMEZONE
BEGIN:VEVENT
DTSTART;VALUE=DATE:20241109
DTEND;VALUE=DATE:20241111
DTSTAMP:20260420T003209
CREATED:20241008T143733Z
LAST-MODIFIED:20241008T143733Z
UID:1452-1731110400-1731283199@www.nspwar.org
SUMMARY:Mountain Travel and Rescue - Level 1 Course
DESCRIPTION:
URL:http://www.nspwar.org/wordpress/event/mountain-travel-and-rescue-level-1-course/
LOCATION:Laurel Summit Nordic Ski Patrol
CATEGORIES:Mountain Travel and Rescue
ORGANIZER;CN="Dave%20Everett":MAILTO:daveeverett1@outlook.com
END:VEVENT
END:VCALENDAR