BEGIN:VCALENDAR
VERSION:2.0
PRODID:-//NSP - Western Appalachian Region - ECPv6.0.1.1//NONSGML v1.0//EN
CALSCALE:GREGORIAN
METHOD:PUBLISH
X-ORIGINAL-URL:http://www.nspwar.org/wordpress
X-WR-CALDESC:Events for NSP - Western Appalachian Region
REFRESH-INTERVAL;VALUE=DURATION:PT1H
X-Robots-Tag:noindex
X-PUBLISHED-TTL:PT1H
BEGIN:VTIMEZONE
TZID:UTC
BEGIN:STANDARD
TZOFFSETFROM:+0000
TZOFFSETTO:+0000
TZNAME:UTC
DTSTART:20190101T000000
END:STANDARD
END:VTIMEZONE
BEGIN:VEVENT
DTSTART;TZID=UTC:20190907T080000
DTEND;TZID=UTC:20190907T170000
DTSTAMP:20260421T103719
CREATED:20190406T011802Z
LAST-MODIFIED:20190816T232453Z
UID:599-1567843200-1567875600@www.nspwar.org
SUMMARY:Laurel Mountain Refresher
DESCRIPTION:This refresher is full and no further registration will be accepted.
URL:http://www.nspwar.org/wordpress/event/laurel-mountain-refresher/
LOCATION:Barn
CATEGORIES:OEC Refresher
END:VEVENT
BEGIN:VEVENT
DTSTART;TZID=UTC:20190824T080000
DTEND;TZID=UTC:20190824T170000
DTSTAMP:20260421T103719
CREATED:20190406T011446Z
LAST-MODIFIED:20190406T011446Z
UID:597-1566633600-1566666000@www.nspwar.org
SUMMARY:OEC Instructor Refresher - Baltimore/DC
DESCRIPTION:
URL:http://www.nspwar.org/wordpress/event/oec-instructor-refresher-baltimore-dc/
CATEGORIES:OEC Refresher
ORGANIZER;CN="Wendy%20Thompson":MAILTO:wthompson@adelbergrudow.com
END:VEVENT
BEGIN:VEVENT
DTSTART;TZID=UTC:20190818T080000
DTEND;TZID=UTC:20190818T170000
DTSTAMP:20260421T103719
CREATED:20190406T011248Z
LAST-MODIFIED:20190803T071112Z
UID:594-1566115200-1566147600@www.nspwar.org
SUMMARY:OEC Instructor Refresher
DESCRIPTION:We have added an Instructor Development con-ed course along with the instructor refresher.  Please be sure you sign up for both. If you do not you will not get credit for being an instructor from National. The course numbers are: E123190006 for the Instructor refresher at Hidden Valley.  E036190001 for the Instructor Development . \n 
URL:http://www.nspwar.org/wordpress/event/oec-instructor-refresher/
LOCATION:Hidden Valley\, 1 Craighead Rd\, Hidden Valley\, PA\, 15502\, United States
CATEGORIES:OEC Refresher
ORGANIZER;CN="Bob%20Snoby":MAILTO:snubby52@gmail.com
END:VEVENT
END:VCALENDAR