BEGIN:VCALENDAR
VERSION:2.0
PRODID:-//NSP - Western Appalachian Region - ECPv6.0.1.1//NONSGML v1.0//EN
CALSCALE:GREGORIAN
METHOD:PUBLISH
X-WR-CALNAME:NSP - Western Appalachian Region
X-ORIGINAL-URL:http://www.nspwar.org/wordpress
X-WR-CALDESC:Events for NSP - Western Appalachian Region
REFRESH-INTERVAL;VALUE=DURATION:PT1H
X-Robots-Tag:noindex
X-PUBLISHED-TTL:PT1H
BEGIN:VTIMEZONE
TZID:America/New_York
BEGIN:DAYLIGHT
TZOFFSETFROM:-0500
TZOFFSETTO:-0400
TZNAME:EDT
DTSTART:20210314T070000
END:DAYLIGHT
BEGIN:STANDARD
TZOFFSETFROM:-0400
TZOFFSETTO:-0500
TZNAME:EST
DTSTART:20211107T060000
END:STANDARD
BEGIN:DAYLIGHT
TZOFFSETFROM:-0500
TZOFFSETTO:-0400
TZNAME:EDT
DTSTART:20220313T070000
END:DAYLIGHT
BEGIN:STANDARD
TZOFFSETFROM:-0400
TZOFFSETTO:-0500
TZNAME:EST
DTSTART:20221106T060000
END:STANDARD
BEGIN:DAYLIGHT
TZOFFSETFROM:-0500
TZOFFSETTO:-0400
TZNAME:EDT
DTSTART:20230312T070000
END:DAYLIGHT
BEGIN:STANDARD
TZOFFSETFROM:-0400
TZOFFSETTO:-0500
TZNAME:EST
DTSTART:20231105T060000
END:STANDARD
END:VTIMEZONE
BEGIN:VEVENT
DTSTART;TZID=America/New_York:20230121T080000
DTEND;TZID=America/New_York:20230121T170000
DTSTAMP:20260421T213848
CREATED:20221004T171827Z
LAST-MODIFIED:20221004T171827Z
UID:1158-1674288000-1674320400@www.nspwar.org
SUMMARY:TE Prep @ Seven Springs (Invite Only)
DESCRIPTION:
URL:http://www.nspwar.org/wordpress/event/te-prep-seven-springs-invite-only/
LOCATION:Seven Springs\, 777 Waterwheel Dr\, Seven Springs\, PA\, 15622\, United States
CATEGORIES:OET,Senior OET
END:VEVENT
BEGIN:VEVENT
DTSTART;TZID=America/New_York:20230121T080000
DTEND;TZID=America/New_York:20230121T170000
DTSTAMP:20260421T213848
CREATED:20221004T171650Z
LAST-MODIFIED:20221004T171650Z
UID:1155-1674288000-1674320400@www.nspwar.org
SUMMARY:OET - Senior Clinic @ Laurel Mtn
DESCRIPTION:
URL:http://www.nspwar.org/wordpress/event/oet-senior-clinic-laurel-mtn-2/
LOCATION:Laurel Mountain\, 374 Summit Ski Road\, Boswell\, PA\, 15531\, United States
CATEGORIES:Senior OET
END:VEVENT
BEGIN:VEVENT
DTSTART;TZID=America/New_York:20230121T080000
DTEND;TZID=America/New_York:20230121T150000
DTSTAMP:20260421T213848
CREATED:20220809T165848Z
LAST-MODIFIED:20220809T165848Z
UID:1127-1674288000-1674313200@www.nspwar.org
SUMMARY:Senior EMM Clinic @ Seven Springs
DESCRIPTION:
URL:http://www.nspwar.org/wordpress/event/senior-emm-clinic-seven-springs-5/
LOCATION:Seven Springs\, 777 Waterwheel Dr\, Seven Springs\, PA\, 15622\, United States
CATEGORIES:Senior EMM
ORGANIZER;CN="Bryant%20Hall":MAILTO:medicahall@comcast.net
END:VEVENT
BEGIN:VEVENT
DTSTART;VALUE=DATE:20230116
DTEND;VALUE=DATE:20230117
DTSTAMP:20260421T213848
CREATED:20220809T173849Z
LAST-MODIFIED:20220809T173849Z
UID:1137-1673827200-1673913599@www.nspwar.org
SUMMARY:MLK Day
DESCRIPTION:
URL:http://www.nspwar.org/wordpress/event/mlk-day/
LOCATION:PA
END:VEVENT
BEGIN:VEVENT
DTSTART;TZID=America/New_York:20230108T080000
DTEND;TZID=America/New_York:20230108T170000
DTSTAMP:20260421T213848
CREATED:20221004T171551Z
LAST-MODIFIED:20221004T171551Z
UID:1153-1673164800-1673197200@www.nspwar.org
SUMMARY:OET Senior Clinics @ Seven Springs
DESCRIPTION:
URL:http://www.nspwar.org/wordpress/event/oet-senior-clinics-seven-springs/
LOCATION:Seven Springs\, 777 Waterwheel Dr\, Seven Springs\, PA\, 15622\, United States
CATEGORIES:Senior OET
END:VEVENT
BEGIN:VEVENT
DTSTART;VALUE=DATE:20230101
DTEND;VALUE=DATE:20230102
DTSTAMP:20260421T213848
CREATED:20220809T173737Z
LAST-MODIFIED:20220809T173737Z
UID:1135-1672531200-1672617599@www.nspwar.org
SUMMARY:New Year's Day
DESCRIPTION:
URL:http://www.nspwar.org/wordpress/event/new-years-day/
LOCATION:PA
END:VEVENT
BEGIN:VEVENT
DTSTART;VALUE=DATE:20221225
DTEND;VALUE=DATE:20221226
DTSTAMP:20260421T213848
CREATED:20220809T173712Z
LAST-MODIFIED:20220809T173712Z
UID:1133-1671926400-1672012799@www.nspwar.org
SUMMARY:Christmas
DESCRIPTION:
URL:http://www.nspwar.org/wordpress/event/christmas/
LOCATION:PA
END:VEVENT
BEGIN:VEVENT
DTSTART;TZID=America/New_York:20221218T080000
DTEND;TZID=America/New_York:20221218T170000
DTSTAMP:20260421T213848
CREATED:20221004T171447Z
LAST-MODIFIED:20221004T171447Z
UID:1151-1671350400-1671382800@www.nspwar.org
SUMMARY:Region TI Refresher @ Seven Springs
DESCRIPTION:
URL:http://www.nspwar.org/wordpress/event/region-ti-refresher-seven-springs/
LOCATION:Seven Springs\, 777 Waterwheel Dr\, Seven Springs\, PA\, 15622\, United States
CATEGORIES:OET
END:VEVENT
BEGIN:VEVENT
DTSTART;TZID=America/New_York:20221217T080000
DTEND;TZID=America/New_York:20221217T170000
DTSTAMP:20260421T213848
CREATED:20221004T171346Z
LAST-MODIFIED:20221004T171346Z
UID:1149-1671264000-1671296400@www.nspwar.org
SUMMARY:TE Staff Meeting @ Seven Springs
DESCRIPTION:
URL:http://www.nspwar.org/wordpress/event/te-staff-meeting-seven-springs/
LOCATION:Seven Springs\, 777 Waterwheel Dr\, Seven Springs\, PA\, 15622\, United States
CATEGORIES:OET
END:VEVENT
BEGIN:VEVENT
DTSTART;VALUE=DATE:20221124
DTEND;VALUE=DATE:20221125
DTSTAMP:20260421T213848
CREATED:20220809T174230Z
LAST-MODIFIED:20220809T174230Z
UID:1143-1669248000-1669334399@www.nspwar.org
SUMMARY:Thanksgiving
DESCRIPTION:
URL:http://www.nspwar.org/wordpress/event/thanksgiving/
LOCATION:PA
END:VEVENT
BEGIN:VEVENT
DTSTART;TZID=America/New_York:20221105T080000
DTEND;TZID=America/New_York:20221105T150000
DTSTAMP:20260421T213848
CREATED:20220809T165803Z
LAST-MODIFIED:20220809T165803Z
UID:1125-1667635200-1667660400@www.nspwar.org
SUMMARY:Senior EMM Clinic @ Seven Springs
DESCRIPTION:
URL:http://www.nspwar.org/wordpress/event/senior-emm-clinic-seven-springs-4/
LOCATION:Seven Springs\, 777 Waterwheel Dr\, Seven Springs\, PA\, 15622\, United States
CATEGORIES:Senior EMM
ORGANIZER;CN="Bryant%20Hall":MAILTO:medicahall@comcast.net
END:VEVENT
BEGIN:VEVENT
DTSTART;TZID=America/New_York:20221030T080000
DTEND;TZID=America/New_York:20221030T170000
DTSTAMP:20260421T213848
CREATED:20220920T190040Z
LAST-MODIFIED:20220920T190040Z
UID:1146-1667116800-1667149200@www.nspwar.org
SUMMARY:Instructor Development In-Person Course
DESCRIPTION:Pat Boccardi\, of the Boyce Park Ski Patrol\, will be conducting the In Person portion of the Instructor Development Course at Boyce Park on Sunday October 30\, 2022. \nIf you have any interest in becoming an instructor\, in any discipline\, then you must complete the Instructor Development course. There is both an on line portion\, to be completed first\, and an in person portion. Both must be completed. \nYou can sign up for the on line portion through the NSP’s new LMS system. (same as you did for the OEC refresher). If you’ve completed the online portion already\, send Pat your certificate and he’ll get you registered.
URL:http://www.nspwar.org/wordpress/event/instructor-development-in-person-course/
LOCATION:Boyce Park Ski Lodge\, 901 Centerview Dr\, Plum\, PA\, 15239
ORGANIZER;CN="Pat%20Boccardi":MAILTO:patboc@juno.com
END:VEVENT
BEGIN:VEVENT
DTSTART;TZID=America/New_York:20221022T080000
DTEND;TZID=America/New_York:20221022T150000
DTSTAMP:20260421T213848
CREATED:20220809T165719Z
LAST-MODIFIED:20220809T165719Z
UID:1123-1666425600-1666450800@www.nspwar.org
SUMMARY:Senior EMM Clinic @ Seven Springs
DESCRIPTION:
URL:http://www.nspwar.org/wordpress/event/senior-emm-clinic-seven-springs-3/
LOCATION:Seven Springs\, 777 Waterwheel Dr\, Seven Springs\, PA\, 15622\, United States
CATEGORIES:Senior EMM
ORGANIZER;CN="Bryant%20Hall":MAILTO:medicahall@comcast.net
END:VEVENT
BEGIN:VEVENT
DTSTART;TZID=America/New_York:20221016T080000
DTEND;TZID=America/New_York:20221016T170000
DTSTAMP:20260421T213848
CREATED:20220523T181316Z
LAST-MODIFIED:20220523T181316Z
UID:1103-1665907200-1665939600@www.nspwar.org
SUMMARY:Ski Sawmill Refresher
DESCRIPTION:
URL:http://www.nspwar.org/wordpress/event/ski-sawmill-refresher-2/
LOCATION:Ski Sawmill\, 383 Oregon Hill Rd\, Morris\, PA\, 16938\, United States
CATEGORIES:OEC Refresher
END:VEVENT
BEGIN:VEVENT
DTSTART;TZID=America/New_York:20221015T080000
DTEND;TZID=America/New_York:20221015T170000
DTSTAMP:20260421T213848
CREATED:20220510T121717Z
LAST-MODIFIED:20220510T121717Z
UID:1084-1665820800-1665853200@www.nspwar.org
SUMMARY:Canaan Valley OEC Refresher
DESCRIPTION:
URL:http://www.nspwar.org/wordpress/event/canaan-valley-oec-refresher-2/
LOCATION:Canaan Valley\, 230 Main Lodge Road\, Davis\, WV\, 26260\, United States
CATEGORIES:OEC Refresher
END:VEVENT
BEGIN:VEVENT
DTSTART;TZID=America/New_York:20221009T080000
DTEND;TZID=America/New_York:20221009T170000
DTSTAMP:20260421T213848
CREATED:20220510T121632Z
LAST-MODIFIED:20220510T121632Z
UID:1082-1665302400-1665334800@www.nspwar.org
SUMMARY:Blue Knob OEC Refresher
DESCRIPTION:
URL:http://www.nspwar.org/wordpress/event/blue-knob-oec-refresher-2/
LOCATION:Blue Knob\, 1424 Overland Pass\, Claysburg\, PA\, 16625
CATEGORIES:OEC Refresher
END:VEVENT
BEGIN:VEVENT
DTSTART;TZID=America/New_York:20221002T080000
DTEND;TZID=America/New_York:20221002T170000
DTSTAMP:20260421T213848
CREATED:20220510T121508Z
LAST-MODIFIED:20220510T121508Z
UID:1078-1664697600-1664730000@www.nspwar.org
SUMMARY:Boyce Park OEC Refresher
DESCRIPTION:
URL:http://www.nspwar.org/wordpress/event/boyce-park-oec-refresher-2/
LOCATION:Boyce Park Ski Lodge\, 901 Centerview Dr\, Plum\, PA\, 15239
CATEGORIES:OEC Refresher
END:VEVENT
BEGIN:VEVENT
DTSTART;TZID=America/New_York:20220925T080000
DTEND;TZID=America/New_York:20220925T170000
DTSTAMP:20260421T213848
CREATED:20220510T121432Z
LAST-MODIFIED:20220510T121432Z
UID:1076-1664092800-1664125200@www.nspwar.org
SUMMARY:WISP OEC Refresher
DESCRIPTION:
URL:http://www.nspwar.org/wordpress/event/wisp-oec-refresher-2/
LOCATION:Wisp\, 296 Marsh Hill Road\, McHenry\, MD\, 21541\, United States
CATEGORIES:OEC Refresher
END:VEVENT
BEGIN:VEVENT
DTSTART;TZID=America/New_York:20220924T080000
DTEND;TZID=America/New_York:20220924T150000
DTSTAMP:20260421T213848
CREATED:20220809T165628Z
LAST-MODIFIED:20220809T165628Z
UID:1120-1664006400-1664031600@www.nspwar.org
SUMMARY:Senior EMM Clinic @ Seven Springs
DESCRIPTION:
URL:http://www.nspwar.org/wordpress/event/senior-emm-clinic-seven-springs-2/
LOCATION:Seven Springs\, 777 Waterwheel Dr\, Seven Springs\, PA\, 15622\, United States
CATEGORIES:Senior EMM
ORGANIZER;CN="Bryant%20Hall":MAILTO:medicahall@comcast.net
END:VEVENT
BEGIN:VEVENT
DTSTART;TZID=America/New_York:20220918T080000
DTEND;TZID=America/New_York:20220918T170000
DTSTAMP:20260421T213848
CREATED:20220523T181217Z
LAST-MODIFIED:20220523T181217Z
UID:1101-1663488000-1663520400@www.nspwar.org
SUMMARY:Instructor Refresher @ Ski Sawmill
DESCRIPTION:
URL:http://www.nspwar.org/wordpress/event/instructor-refresher-ski-sawmill/
LOCATION:Ski Sawmill\, 383 Oregon Hill Rd\, Morris\, PA\, 16938\, United States
CATEGORIES:OEC Refresher
END:VEVENT
BEGIN:VEVENT
DTSTART;TZID=America/New_York:20220917T080000
DTEND;TZID=America/New_York:20220917T170000
DTSTAMP:20260421T213848
CREATED:20220510T121347Z
LAST-MODIFIED:20220510T121734Z
UID:1074-1663401600-1663434000@www.nspwar.org
SUMMARY:Seven Springs OEC Refresher
DESCRIPTION:
URL:http://www.nspwar.org/wordpress/event/seven-springs-oec-refresher-2/
LOCATION:Seven Springs\, 777 Waterwheel Dr\, Seven Springs\, PA\, 15622\, United States
CATEGORIES:OEC Refresher
END:VEVENT
BEGIN:VEVENT
DTSTART;TZID=America/New_York:20220911T080000
DTEND;TZID=America/New_York:20220911T170000
DTSTAMP:20260421T213848
CREATED:20220510T121303Z
LAST-MODIFIED:20220510T121749Z
UID:1072-1662883200-1662915600@www.nspwar.org
SUMMARY:Laurel Mountain OEC Refresher
DESCRIPTION:
URL:http://www.nspwar.org/wordpress/event/laurel-mountain-oec-refresher/
LOCATION:Laurel Mountain\, 374 Summit Ski Road\, Boswell\, PA\, 15531\, United States
CATEGORIES:OEC Refresher
END:VEVENT
BEGIN:VEVENT
DTSTART;TZID=America/New_York:20220807T080000
DTEND;TZID=America/New_York:20220807T170000
DTSTAMP:20260421T213848
CREATED:20220523T181111Z
LAST-MODIFIED:20220523T181111Z
UID:1099-1659859200-1659891600@www.nspwar.org
SUMMARY:Instructor Refresher @ Seven Springs
DESCRIPTION:
URL:http://www.nspwar.org/wordpress/event/instructor-refresher-seven-springs/
LOCATION:Seven Springs\, 777 Waterwheel Dr\, Seven Springs\, PA\, 15622\, United States
CATEGORIES:OEC Refresher
ORGANIZER;CN="Bob%20Snoby":MAILTO:snubby52@gmail.com
END:VEVENT
BEGIN:VEVENT
DTSTART;TZID=America/New_York:20220522T090000
DTEND;TZID=America/New_York:20220522T150000
DTSTAMP:20260421T213848
CREATED:20220327T170708Z
LAST-MODIFIED:20220327T170728Z
UID:1037-1653210000-1653231600@www.nspwar.org
SUMMARY:Western Appalachian Spring Officer's Meeting
DESCRIPTION:Details to the exact room location and an agenda for the meeting will be forthcoming.
URL:http://www.nspwar.org/wordpress/event/western-appalachians-spring-officers-meeting/
LOCATION:Seven Springs\, 777 Waterwheel Dr\, Seven Springs\, PA\, 15622\, United States
ORGANIZER;CN="Peter%20Buss":MAILTO:pcbuss@gmail.com
END:VEVENT
BEGIN:VEVENT
DTSTART;TZID=America/New_York:20220123T080000
DTEND;TZID=America/New_York:20220123T170000
DTSTAMP:20260421T213848
CREATED:20220103T214309Z
LAST-MODIFIED:20220103T214309Z
UID:999-1642924800-1642957200@www.nspwar.org
SUMMARY:Senior EMM Clinic @ Hidden Valley
DESCRIPTION:
URL:http://www.nspwar.org/wordpress/event/senior-emm-clinic-hidden-valley-3/
LOCATION:Hidden Valley\, 1 Craighead Rd\, Hidden Valley\, PA\, 15502\, United States
CATEGORIES:Senior EMM
ORGANIZER;CN="Bob%20Snoby":MAILTO:snubby52@gmail.com
END:VEVENT
BEGIN:VEVENT
DTSTART;TZID=America/New_York:20211031T080000
DTEND;TZID=America/New_York:20211031T170000
DTSTAMP:20260421T213848
CREATED:20210705T185728Z
LAST-MODIFIED:20210728T143404Z
UID:943-1635667200-1635699600@www.nspwar.org
SUMMARY:WISP OEC Refresher - Course #:E361210004
DESCRIPTION:
URL:http://www.nspwar.org/wordpress/event/wisp-oec-refresher/
LOCATION:Wisp\, 296 Marsh Hill Road\, McHenry\, MD\, 21541\, United States
CATEGORIES:OEC Refresher
ORGANIZER;CN="Wendy%20Thompson":MAILTO:wthompson@adelbergrudow.com
END:VEVENT
BEGIN:VEVENT
DTSTART;TZID=America/New_York:20211024T080000
DTEND;TZID=America/New_York:20211024T170000
DTSTAMP:20260421T213848
CREATED:20210927T153321Z
LAST-MODIFIED:20210927T153321Z
UID:980-1635062400-1635094800@www.nspwar.org
SUMMARY:Instructor Development Course\, Course #:E036210002
DESCRIPTION:Contact Pat Boccardi (patboc@juno.com)\, for additional details.
URL:http://www.nspwar.org/wordpress/event/instructor-development-course-course-e036210002/
LOCATION:Boyce Park Ski Lodge\, 901 Centerview Dr\, Plum\, PA\, 15239
ORGANIZER;CN="Pat%20Boccardi":MAILTO:patboc@juno.com
END:VEVENT
BEGIN:VEVENT
DTSTART;TZID=America/New_York:20211023T080000
DTEND;TZID=America/New_York:20211024T170000
DTSTAMP:20260421T213848
CREATED:20211005T192208Z
LAST-MODIFIED:20211005T192208Z
UID:986-1634976000-1635094800@www.nspwar.org
SUMMARY:MTR1 & MTR Fundamentals Course
DESCRIPTION:There will be an MTR 1 and MTR Fundamentals Course on Oct 23-24 @ Laurel Mountain Warming Hut.\nMTR 1: Course # E040210005\nMTR Fundamentals: Course #E040210006.\nThe cost is $25 for NSP Members \nContact Dave Everett at daveeverett@outlook.com
URL:http://www.nspwar.org/wordpress/event/mtr1-mtr-fundamentals-course/
LOCATION:Laurel Mountain Warming Hut\, 1120 Laurel Summit Rd\, Boswell\, 15531\, United States
ORGANIZER;CN="Dave%20Everett":MAILTO:daveeverett1@outlook.com
END:VEVENT
BEGIN:VEVENT
DTSTART;TZID=America/New_York:20211017T080000
DTEND;TZID=America/New_York:20211017T170000
DTSTAMP:20260421T213848
CREATED:20210705T185654Z
LAST-MODIFIED:20210927T152954Z
UID:941-1634457600-1634490000@www.nspwar.org
SUMMARY:Ski Sawmill OEC Refresher\, Course #:E124210003
DESCRIPTION:
URL:http://www.nspwar.org/wordpress/event/ski-sawmill-oec-refresher/
LOCATION:Ski Sawmill\, 383 Oregon Hill Rd\, Morris\, PA\, 16938\, United States
CATEGORIES:OEC Refresher
END:VEVENT
BEGIN:VEVENT
DTSTART;TZID=America/New_York:20211010T080000
DTEND;TZID=America/New_York:20211010T170000
DTSTAMP:20260421T213848
CREATED:20210705T185616Z
LAST-MODIFIED:20210927T152856Z
UID:939-1633852800-1633885200@www.nspwar.org
SUMMARY:Hidden Valley OEC Refresher\, Course #:E123210004
DESCRIPTION:
URL:http://www.nspwar.org/wordpress/event/hidden-valley-oec-refresher/
LOCATION:Hidden Valley\, 1 Craighead Rd\, Hidden Valley\, PA\, 15502\, United States
CATEGORIES:OEC Refresher
ORGANIZER;CN="Bob%20Snoby":MAILTO:snubby52@gmail.com
END:VEVENT
END:VCALENDAR