BEGIN:VCALENDAR
VERSION:2.0
PRODID:-//NSP - Western Appalachian Region - ECPv6.0.1.1//NONSGML v1.0//EN
CALSCALE:GREGORIAN
METHOD:PUBLISH
X-WR-CALNAME:NSP - Western Appalachian Region
X-ORIGINAL-URL:http://www.nspwar.org/wordpress
X-WR-CALDESC:Events for NSP - Western Appalachian Region
REFRESH-INTERVAL;VALUE=DURATION:PT1H
X-Robots-Tag:noindex
X-PUBLISHED-TTL:PT1H
BEGIN:VTIMEZONE
TZID:America/New_York
BEGIN:DAYLIGHT
TZOFFSETFROM:-0500
TZOFFSETTO:-0400
TZNAME:EDT
DTSTART:20230312T070000
END:DAYLIGHT
BEGIN:STANDARD
TZOFFSETFROM:-0400
TZOFFSETTO:-0500
TZNAME:EST
DTSTART:20231105T060000
END:STANDARD
BEGIN:DAYLIGHT
TZOFFSETFROM:-0500
TZOFFSETTO:-0400
TZNAME:EDT
DTSTART:20240310T070000
END:DAYLIGHT
BEGIN:STANDARD
TZOFFSETFROM:-0400
TZOFFSETTO:-0500
TZNAME:EST
DTSTART:20241103T060000
END:STANDARD
END:VTIMEZONE
BEGIN:VEVENT
DTSTART;TZID=America/New_York:20241215T080000
DTEND;TZID=America/New_York:20241215T170000
DTSTAMP:20260419T225826
CREATED:20240606T003903Z
LAST-MODIFIED:20240606T003924Z
UID:1384-1734249600-1734282000@www.nspwar.org
SUMMARY:TI Clinic @ Seven Springs
DESCRIPTION:
URL:http://www.nspwar.org/wordpress/event/te-clinic-seven-springs-by-invite-only/
LOCATION:Seven Springs\, 777 Waterwheel Dr\, Seven Springs\, PA\, 15622\, United States
CATEGORIES:OET
END:VEVENT
BEGIN:VEVENT
DTSTART;TZID=America/New_York:20241214T080000
DTEND;TZID=America/New_York:20241214T170000
DTSTAMP:20260419T225826
CREATED:20240606T004117Z
LAST-MODIFIED:20240606T004117Z
UID:1387-1734163200-1734195600@www.nspwar.org
SUMMARY:TE Clinic @ Seven Springs (by invite only)
DESCRIPTION:
URL:http://www.nspwar.org/wordpress/event/te-clinic-seven-springs-by-invite-only-2/
LOCATION:Seven Springs\, 777 Waterwheel Dr\, Seven Springs\, PA\, 15622\, United States
END:VEVENT
BEGIN:VEVENT
DTSTART;TZID=America/New_York:20241208T080000
DTEND;TZID=America/New_York:20241208T120000
DTSTAMP:20260419T225826
CREATED:20230801T192134Z
LAST-MODIFIED:20240910T194805Z
UID:1304-1733644800-1733659200@www.nspwar.org
SUMMARY:Senior EMM Clinic - Wisp Resort
DESCRIPTION:
URL:http://www.nspwar.org/wordpress/event/senior-oet-clinic-seven-springs-3/
LOCATION:Wisp\, 296 Marsh Hill Road\, McHenry\, MD\, 21541\, United States
CATEGORIES:Senior EMM
END:VEVENT
BEGIN:VEVENT
DTSTART;TZID=America/New_York:20241117T080000
DTEND;TZID=America/New_York:20241117T120000
DTSTAMP:20260419T225826
CREATED:20240606T004222Z
LAST-MODIFIED:20240910T194956Z
UID:1389-1731830400-1731844800@www.nspwar.org
SUMMARY:Senior EMM Clinic @ Laurel Mountain
DESCRIPTION:
URL:http://www.nspwar.org/wordpress/event/senior-oet-laurel-mtn/
LOCATION:Laurel Mountain\, 374 Summit Ski Road\, Boswell\, PA\, 15531\, United States
CATEGORIES:Senior EMM
END:VEVENT
BEGIN:VEVENT
DTSTART;VALUE=DATE:20241109
DTEND;VALUE=DATE:20241111
DTSTAMP:20260419T225826
CREATED:20241008T143733Z
LAST-MODIFIED:20241008T143733Z
UID:1452-1731110400-1731283199@www.nspwar.org
SUMMARY:Mountain Travel and Rescue - Level 1 Course
DESCRIPTION:
URL:http://www.nspwar.org/wordpress/event/mountain-travel-and-rescue-level-1-course/
LOCATION:Laurel Summit Nordic Ski Patrol
CATEGORIES:Mountain Travel and Rescue
ORGANIZER;CN="Dave%20Everett":MAILTO:daveeverett1@outlook.com
END:VEVENT
BEGIN:VEVENT
DTSTART;TZID=America/New_York:20241103T080000
DTEND;TZID=America/New_York:20241103T120000
DTSTAMP:20260419T225826
CREATED:20230801T192007Z
LAST-MODIFIED:20240901T120810Z
UID:1300-1730620800-1730635200@www.nspwar.org
SUMMARY:Senior EMM Clinic - Hidden Valley
DESCRIPTION:
URL:http://www.nspwar.org/wordpress/event/senior-oet-clinic-wisp/
LOCATION:Hidden Valley\, 1 Craighead Rd\, Hidden Valley\, PA\, 15502\, United States
CATEGORIES:Senior EMM
END:VEVENT
BEGIN:VEVENT
DTSTART;TZID=America/New_York:20241026T080000
DTEND;TZID=America/New_York:20241026T120000
DTSTAMP:20260419T225826
CREATED:20240901T120954Z
LAST-MODIFIED:20240901T120954Z
UID:1438-1729929600-1729944000@www.nspwar.org
SUMMARY:Senior EMM Clinic - Hidden Valley
DESCRIPTION:
URL:http://www.nspwar.org/wordpress/event/senior-emm-clinic-hidden-valley-4/
LOCATION:Hidden Valley\, 1 Craighead Rd\, Hidden Valley\, PA\, 15502\, United States
CATEGORIES:Senior EMM
END:VEVENT
BEGIN:VEVENT
DTSTART;TZID=America/New_York:20241020T080000
DTEND;TZID=America/New_York:20241020T170000
DTSTAMP:20260419T225826
CREATED:20240606T001802Z
LAST-MODIFIED:20240606T001802Z
UID:1379-1729411200-1729443600@www.nspwar.org
SUMMARY:Ski Sawmill Refresher
DESCRIPTION:
URL:http://www.nspwar.org/wordpress/event/ski-sawmill-refresher-3/
LOCATION:Ski Sawmill\, 383 Oregon Hill Rd\, Morris\, PA\, 16938\, United States
CATEGORIES:OEC Refresher
END:VEVENT
BEGIN:VEVENT
DTSTART;TZID=America/New_York:20241012T080000
DTEND;TZID=America/New_York:20241012T170000
DTSTAMP:20260419T225826
CREATED:20220510T121551Z
LAST-MODIFIED:20240718T155051Z
UID:1080-1728720000-1728752400@www.nspwar.org
SUMMARY:7S/HV/LM Refresher @ Hidden Valley Resort
DESCRIPTION:
URL:http://www.nspwar.org/wordpress/event/hidden-valley-oec-refresher-2/
LOCATION:Hidden Valley\, 1 Craighead Rd\, Hidden Valley\, PA\, 15502\, United States
CATEGORIES:OEC Refresher
END:VEVENT
BEGIN:VEVENT
DTSTART;TZID=America/New_York:20241006T080000
DTEND;TZID=America/New_York:20241006T170000
DTSTAMP:20260419T225826
CREATED:20230520T173528Z
LAST-MODIFIED:20240606T001021Z
UID:1251-1728201600-1728234000@www.nspwar.org
SUMMARY:Blue Knob Refresher
DESCRIPTION:
URL:http://www.nspwar.org/wordpress/event/blue-knob-refresher-2/
LOCATION:Blue Knob\, 1424 Overland Pass\, Claysburg\, PA\, 16625
CATEGORIES:OEC Refresher
END:VEVENT
BEGIN:VEVENT
DTSTART;TZID=America/New_York:20241005T080000
DTEND;TZID=America/New_York:20241005T170000
DTSTAMP:20260419T225826
CREATED:20230520T173614Z
LAST-MODIFIED:20240718T155140Z
UID:1253-1728115200-1728147600@www.nspwar.org
SUMMARY:7S/HV/LM Refresher at Hidden Valley
DESCRIPTION:
URL:http://www.nspwar.org/wordpress/event/seven-spring-refresher/
LOCATION:Hidden Valley\, 1 Craighead Rd\, Hidden Valley\, PA\, 15502\, United States
CATEGORIES:OEC Refresher
END:VEVENT
BEGIN:VEVENT
DTSTART;TZID=America/New_York:20240929T090000
DTEND;TZID=America/New_York:20240929T170000
DTSTAMP:20260419T225826
CREATED:20230520T173320Z
LAST-MODIFIED:20240606T001155Z
UID:1245-1727600400-1727629200@www.nspwar.org
SUMMARY:Boyce Park Refresher
DESCRIPTION:
URL:http://www.nspwar.org/wordpress/event/boyce-park-refresher-2/
LOCATION:Boyce Park Ski Lodge\, 901 Centerview Dr\, Plum\, PA\, 15239
CATEGORIES:OEC Refresher
END:VEVENT
BEGIN:VEVENT
DTSTART;TZID=America/New_York:20240922T080000
DTEND;TZID=America/New_York:20240922T170000
DTSTAMP:20260419T225826
CREATED:20230520T173451Z
LAST-MODIFIED:20240606T001051Z
UID:1249-1726992000-1727024400@www.nspwar.org
SUMMARY:WISP Refresher
DESCRIPTION:
URL:http://www.nspwar.org/wordpress/event/wisp-refresher-2/
LOCATION:Wisp\, 296 Marsh Hill Road\, McHenry\, MD\, 21541\, United States
CATEGORIES:OEC Refresher
END:VEVENT
BEGIN:VEVENT
DTSTART;TZID=America/New_York:20240919T190000
DTEND;TZID=America/New_York:20240919T200000
DTSTAMP:20260419T225826
CREATED:20240609T182456Z
LAST-MODIFIED:20240609T182557Z
UID:1398-1726772400-1726776000@www.nspwar.org
SUMMARY:Senior EMM Orientation - Zoom Meeting
DESCRIPTION:
URL:http://www.nspwar.org/wordpress/event/senior-emm-zoom-meeting/
LOCATION:PA
CATEGORIES:Senior EMM
ORGANIZER;CN="Bryant%20Hall":MAILTO:medicahall@comcast.net
END:VEVENT
BEGIN:VEVENT
DTSTART;TZID=America/New_York:20240915T080000
DTEND;TZID=America/New_York:20240915T170000
DTSTAMP:20260419T225826
CREATED:20230520T173711Z
LAST-MODIFIED:20240606T001908Z
UID:1255-1726387200-1726419600@www.nspwar.org
SUMMARY:Ski Sawmill Instructor Refresher
DESCRIPTION:
URL:http://www.nspwar.org/wordpress/event/ski-sawmill-tussey-refresher/
LOCATION:Ski Sawmill\, 383 Oregon Hill Rd\, Morris\, PA\, 16938\, United States
CATEGORIES:OEC Refresher
END:VEVENT
BEGIN:VEVENT
DTSTART;TZID=America/New_York:20240914T080000
DTEND;TZID=America/New_York:20240914T170000
DTSTAMP:20260419T225826
CREATED:20230520T173406Z
LAST-MODIFIED:20240606T001119Z
UID:1247-1726300800-1726333200@www.nspwar.org
SUMMARY:Canaan Valley Refresher
DESCRIPTION:
URL:http://www.nspwar.org/wordpress/event/canaan-valley-refresher-2/
LOCATION:Canaan Valley\, 230 Main Lodge Road\, Davis\, WV\, 26260\, United States
CATEGORIES:OEC Refresher
END:VEVENT
BEGIN:VEVENT
DTSTART;TZID=America/New_York:20240818T080000
DTEND;TZID=America/New_York:20240818T170000
DTSTAMP:20260419T225826
CREATED:20230622T152041Z
LAST-MODIFIED:20240606T000550Z
UID:1287-1723968000-1724000400@www.nspwar.org
SUMMARY:2024 OEC Instructor Refresher
DESCRIPTION:
URL:http://www.nspwar.org/wordpress/event/2023-oec-instructor-refresher/
LOCATION:Hidden Valley\, 1 Craighead Rd\, Hidden Valley\, PA\, 15502\, United States
CATEGORIES:OEC Refresher
ORGANIZER;CN="Bob%20Snoby":MAILTO:snubby52@gmail.com
END:VEVENT
BEGIN:VEVENT
DTSTART;TZID=America/New_York:20240720T083000
DTEND;TZID=America/New_York:20240720T170000
DTSTAMP:20260419T225826
CREATED:20240628T152104Z
LAST-MODIFIED:20240628T152104Z
UID:1405-1721464200-1721494800@www.nspwar.org
SUMMARY:Low Angle Rescue Clinic
DESCRIPTION:
URL:http://www.nspwar.org/wordpress/event/low-angle-rescue-clinic/
LOCATION:Laurel Summit Nordic Ski Patrol
CATEGORIES:Mountain Travel and Rescue
ORGANIZER;CN="Dave%20Everett":MAILTO:daveeverett1@outlook.com
END:VEVENT
BEGIN:VEVENT
DTSTART;TZID=America/New_York:20240224T080000
DTEND;TZID=America/New_York:20240224T170000
DTSTAMP:20260419T225826
CREATED:20230530T004738Z
LAST-MODIFIED:20230530T004738Z
UID:1280-1708761600-1708794000@www.nspwar.org
SUMMARY:Senior EMM Evaluation
DESCRIPTION:
URL:http://www.nspwar.org/wordpress/event/senior-emm-evaluation/
LOCATION:TBD
CATEGORIES:Senior EMM
ORGANIZER;CN="Bryant%20Hall":MAILTO:medicahall@comcast.net
END:VEVENT
BEGIN:VEVENT
DTSTART;TZID=America/New_York:20240217T080000
DTEND;TZID=America/New_York:20240217T170000
DTSTAMP:20260419T225826
CREATED:20230530T004645Z
LAST-MODIFIED:20230530T004645Z
UID:1278-1708156800-1708189200@www.nspwar.org
SUMMARY:Senior EMM Clinic
DESCRIPTION:
URL:http://www.nspwar.org/wordpress/event/senior-emm-clinic-6/
LOCATION:Hidden Vallley / Seven Springs
CATEGORIES:Senior EMM
ORGANIZER;CN="Bryant%20Hall":MAILTO:medicahall@comcast.net
END:VEVENT
BEGIN:VEVENT
DTSTART;TZID=America/New_York:20240120T080000
DTEND;TZID=America/New_York:20240121T170000
DTSTAMP:20260419T225826
CREATED:20231205T222035Z
LAST-MODIFIED:20231205T222035Z
UID:1343-1705737600-1705856400@www.nspwar.org
SUMMARY:2024 WAPP YAP Weekend
DESCRIPTION:WAPP YAP 2024 will be hosted January 20-21st at Wisp Resort. Here is the link to the Registration Form.
URL:http://www.nspwar.org/wordpress/event/2024-wapp-yap-weekend/
LOCATION:Wisp\, 296 Marsh Hill Road\, McHenry\, MD\, 21541\, United States
CATEGORIES:YAPP
END:VEVENT
BEGIN:VEVENT
DTSTART;TZID=America/New_York:20240113T080000
DTEND;TZID=America/New_York:20240113T170000
DTSTAMP:20260419T225826
CREATED:20230530T004612Z
LAST-MODIFIED:20230530T004612Z
UID:1276-1705132800-1705165200@www.nspwar.org
SUMMARY:Senior EMM Clinic
DESCRIPTION:
URL:http://www.nspwar.org/wordpress/event/senior-emm-clinic-5/
LOCATION:TBD
CATEGORIES:Senior EMM
ORGANIZER;CN="Bryant%20Hall":MAILTO:medicahall@comcast.net
END:VEVENT
BEGIN:VEVENT
DTSTART;TZID=America/New_York:20240107T080000
DTEND;TZID=America/New_York:20240107T170000
DTSTAMP:20260419T225826
CREATED:20230801T191836Z
LAST-MODIFIED:20230801T191836Z
UID:1296-1704614400-1704646800@www.nspwar.org
SUMMARY:Senior OET Clinic - Seven Springs
DESCRIPTION:
URL:http://www.nspwar.org/wordpress/event/senior-oet-clinic-seven-springs-2/
LOCATION:Seven Springs\, 777 Waterwheel Dr\, Seven Springs\, PA\, 15622\, United States
CATEGORIES:Senior OET
END:VEVENT
BEGIN:VEVENT
DTSTART;TZID=America/New_York:20231203T080000
DTEND;TZID=America/New_York:20231203T170000
DTSTAMP:20260419T225826
CREATED:20230530T004537Z
LAST-MODIFIED:20230530T004537Z
UID:1273-1701590400-1701622800@www.nspwar.org
SUMMARY:Senior EMM Clinic
DESCRIPTION:
URL:http://www.nspwar.org/wordpress/event/senior-emm-clinic-4/
LOCATION:Hidden Vallley / Seven Springs
CATEGORIES:Senior EMM
ORGANIZER;CN="Bryant%20Hall":MAILTO:medicahall@comcast.net
END:VEVENT
BEGIN:VEVENT
DTSTART;TZID=America/New_York:20231119T080000
DTEND;TZID=America/New_York:20231119T170000
DTSTAMP:20260419T225826
CREATED:20230530T004435Z
LAST-MODIFIED:20230530T004435Z
UID:1271-1700380800-1700413200@www.nspwar.org
SUMMARY:Senior EMM Clinic
DESCRIPTION:
URL:http://www.nspwar.org/wordpress/event/senior-emm-clinic-3/
LOCATION:TBD
CATEGORIES:Senior EMM
ORGANIZER;CN="Bryant%20Hall":MAILTO:medicahall@comcast.net
END:VEVENT
BEGIN:VEVENT
DTSTART;TZID=America/New_York:20231105T080000
DTEND;TZID=America/New_York:20231105T120000
DTSTAMP:20260419T225826
CREATED:20230530T004401Z
LAST-MODIFIED:20230530T004401Z
UID:1268-1699171200-1699185600@www.nspwar.org
SUMMARY:Senior EMM Clinic
DESCRIPTION:
URL:http://www.nspwar.org/wordpress/event/senior-emm-clinic-2/
LOCATION:TBD
CATEGORIES:Senior EMM
ORGANIZER;CN="Bryant%20Hall":MAILTO:medicahall@comcast.net
END:VEVENT
BEGIN:VEVENT
DTSTART;TZID=America/New_York:20231028T090000
DTEND;TZID=America/New_York:20231028T150000
DTSTAMP:20260419T225826
CREATED:20230530T004251Z
LAST-MODIFIED:20230530T004858Z
UID:1266-1698483600-1698505200@www.nspwar.org
SUMMARY:Senior EMM Clinic
DESCRIPTION:Bring a Lunch
URL:http://www.nspwar.org/wordpress/event/senior-emm-clinic/
LOCATION:Hidden Vallley / Seven Springs
CATEGORIES:Senior EMM
ORGANIZER;CN="Bryant%20Hall":MAILTO:medicahall@comcast.net
END:VEVENT
BEGIN:VEVENT
DTSTART;VALUE=DATE:20230409
DTEND;VALUE=DATE:20230410
DTSTAMP:20260419T225826
CREATED:20220809T173958Z
LAST-MODIFIED:20220809T174321Z
UID:1141-1680998400-1681084799@www.nspwar.org
SUMMARY:Easter
DESCRIPTION:
URL:http://www.nspwar.org/wordpress/event/easter/
LOCATION:PA
END:VEVENT
BEGIN:VEVENT
DTSTART;TZID=America/New_York:20230304T080000
DTEND;TZID=America/New_York:20230304T170000
DTSTAMP:20260419T225826
CREATED:20220809T173440Z
LAST-MODIFIED:20220809T173440Z
UID:1131-1677916800-1677949200@www.nspwar.org
SUMMARY:Senior EMM Evaluation @ Seven Springs
DESCRIPTION:
URL:http://www.nspwar.org/wordpress/event/senior-emm-evaluation-seven-springs/
LOCATION:Seven Springs\, 777 Waterwheel Dr\, Seven Springs\, PA\, 15622\, United States
CATEGORIES:Senior EMM
ORGANIZER;CN="Bryant%20Hall":MAILTO:medicahall@comcast.net
END:VEVENT
BEGIN:VEVENT
DTSTART;TZID=America/New_York:20230303T080000
DTEND;TZID=America/New_York:20230303T170000
DTSTAMP:20260419T225826
CREATED:20221004T172405Z
LAST-MODIFIED:20221004T175222Z
UID:1170-1677830400-1677862800@www.nspwar.org
SUMMARY:OET - Senior Clinic @ Seven Springs (Friday Event)
DESCRIPTION:
URL:http://www.nspwar.org/wordpress/event/oet-senior-clinic-seven-springs/
LOCATION:Seven Springs\, 777 Waterwheel Dr\, Seven Springs\, PA\, 15622\, United States
CATEGORIES:Senior OET
END:VEVENT
END:VCALENDAR