BEGIN:VCALENDAR
VERSION:2.0
PRODID:-//NSP - Western Appalachian Region - ECPv6.0.1.1//NONSGML v1.0//EN
CALSCALE:GREGORIAN
METHOD:PUBLISH
X-WR-CALNAME:NSP - Western Appalachian Region
X-ORIGINAL-URL:http://www.nspwar.org/wordpress
X-WR-CALDESC:Events for NSP - Western Appalachian Region
REFRESH-INTERVAL;VALUE=DURATION:PT1H
X-Robots-Tag:noindex
X-PUBLISHED-TTL:PT1H
BEGIN:VTIMEZONE
TZID:UTC
BEGIN:STANDARD
TZOFFSETFROM:+0000
TZOFFSETTO:+0000
TZNAME:UTC
DTSTART:20190101T000000
END:STANDARD
END:VTIMEZONE
BEGIN:VEVENT
DTSTART;TZID=UTC:20190302T080000
DTEND;TZID=UTC:20190302T170000
DTSTAMP:20260424T133126
CREATED:20181107T071752Z
LAST-MODIFIED:20190226T225706Z
UID:529-1551513600-1551546000@www.nspwar.org
SUMMARY:Senior OET Clinic @ Seven Springs\, starts @ 8:30a
DESCRIPTION:Course #: Q063190005
URL:http://www.nspwar.org/wordpress/event/senior-oet-clinic-seven-springs/
LOCATION:Seven Springs\, 777 Waterwheel Dr\, Seven Springs\, PA\, 15622\, United States
CATEGORIES:Senior OET
END:VEVENT
BEGIN:VEVENT
DTSTART;TZID=UTC:20190303T080000
DTEND;TZID=UTC:20190303T170000
DTSTAMP:20260424T133126
CREATED:20181107T070057Z
LAST-MODIFIED:20190211T223936Z
UID:518-1551600000-1551632400@www.nspwar.org
SUMMARY:Senior EMM Clinic @ Seven Springs
DESCRIPTION:Course #: E286190005
URL:http://www.nspwar.org/wordpress/event/senior-emm-clinic-wisp-2/
LOCATION:Wisp\, 296 Marsh Hill Road\, McHenry\, MD\, 21541\, United States
CATEGORIES:Senior EMM
END:VEVENT
BEGIN:VEVENT
DTSTART;TZID=UTC:20190303T080000
DTEND;TZID=UTC:20190303T170000
DTSTAMP:20260424T133126
CREATED:20181107T071145Z
LAST-MODIFIED:20190227T071926Z
UID:522-1551600000-1551632400@www.nspwar.org
SUMMARY:Senior OET Evaluation at Seven Springs\, starts @ 8:00a
DESCRIPTION:Senior OET Skiing Eval Course #: Q063190007\nSenior OET Toboggan Eval Course #: Q063190008 \nNote: All Senior OET Candidates who plan to attend the Senior OET Eval have had to attend at least one Senior OET Clinic this season.\nPlease contact Mike Wess\, Regional OET Advisor with any questions.
URL:http://www.nspwar.org/wordpress/event/senior-oet-evaluation/
LOCATION:Seven Springs\, 777 Waterwheel Dr\, Seven Springs\, PA\, 15622\, United States
CATEGORIES:Senior OET
END:VEVENT
BEGIN:VEVENT
DTSTART;TZID=UTC:20190310T080000
DTEND;TZID=UTC:20190310T170000
DTSTAMP:20260424T133126
CREATED:20181107T070338Z
LAST-MODIFIED:20181107T070338Z
UID:520-1552204800-1552237200@www.nspwar.org
SUMMARY:Senior EMM Test @ Seven Springs
DESCRIPTION:Course #: E286190006
URL:http://www.nspwar.org/wordpress/event/senior-emm-test-seven-springs/
LOCATION:Seven Springs\, 777 Waterwheel Dr\, Seven Springs\, PA\, 15622\, United States
CATEGORIES:Senior EMM
END:VEVENT
BEGIN:VEVENT
DTSTART;TZID=UTC:20190310T080000
DTEND;TZID=UTC:20190310T170000
DTSTAMP:20260424T133126
CREATED:20181217T081716Z
LAST-MODIFIED:20190226T231515Z
UID:571-1552204800-1552237200@www.nspwar.org
SUMMARY:Snowboard Enhancement Seminar (Phase B) @ Blue Knob
DESCRIPTION:Snowboard Enhancement Clinic (Phase B) at Blue Knob Sunday March 10\, 2019 staring at 08:45 am.  Course #Q063190006 \n(This seminar cost $35/Each)  This seminar is planned to continue from where the Phase A clinic stopped and continue from there
URL:http://www.nspwar.org/wordpress/event/snowboard-enhancement-seminar-b-blue-knob/
LOCATION:PA
END:VEVENT
END:VCALENDAR