BEGIN:VCALENDAR
VERSION:2.0
PRODID:-//NSP - Western Appalachian Region - ECPv6.0.1.1//NONSGML v1.0//EN
CALSCALE:GREGORIAN
METHOD:PUBLISH
X-ORIGINAL-URL:http://www.nspwar.org/wordpress
X-WR-CALDESC:Events for NSP - Western Appalachian Region
REFRESH-INTERVAL;VALUE=DURATION:PT1H
X-Robots-Tag:noindex
X-PUBLISHED-TTL:PT1H
BEGIN:VTIMEZONE
TZID:UTC
BEGIN:STANDARD
TZOFFSETFROM:+0000
TZOFFSETTO:+0000
TZNAME:UTC
DTSTART:20190101T000000
END:STANDARD
TZID:America/New_York
BEGIN:DAYLIGHT
TZOFFSETFROM:-0500
TZOFFSETTO:-0400
TZNAME:EDT
DTSTART:20190310T070000
END:DAYLIGHT
BEGIN:STANDARD
TZOFFSETFROM:-0400
TZOFFSETTO:-0500
TZNAME:EST
DTSTART:20191103T060000
END:STANDARD
END:VTIMEZONE
BEGIN:VEVENT
DTSTART;TZID=UTC:20191006T080000
DTEND;TZID=UTC:20191006T170000
DTSTAMP:20260420T124553
CREATED:20190406T013731Z
LAST-MODIFIED:20190406T013731Z
UID:614-1570348800-1570381200@www.nspwar.org
SUMMARY:Hidden Valley Refresher
DESCRIPTION:
URL:http://www.nspwar.org/wordpress/event/hidden-valley-refresher/
LOCATION:Hidden Valley\, 1 Craighead Rd\, Hidden Valley\, PA\, 15502\, United States
CATEGORIES:OEC Refresher
END:VEVENT
BEGIN:VEVENT
DTSTART;TZID=America/New_York:20191019T080000
DTEND;TZID=America/New_York:20191019T170000
DTSTAMP:20260420T124553
CREATED:20230520T173752Z
LAST-MODIFIED:20240606T000841Z
UID:1257-1571472000-1571504400@www.nspwar.org
SUMMARY:Hidden Valley Refresher
DESCRIPTION:
URL:http://www.nspwar.org/wordpress/event/hidden-valley-refresher-2/
LOCATION:Hidden Valley\, 1 Craighead Rd\, Hidden Valley\, PA\, 15502\, United States
CATEGORIES:OEC Refresher
END:VEVENT
BEGIN:VEVENT
DTSTART;TZID=UTC:20191020T080000
DTEND;TZID=UTC:20191020T170000
DTSTAMP:20260420T124553
CREATED:20190406T013809Z
LAST-MODIFIED:20190406T013809Z
UID:616-1571558400-1571590800@www.nspwar.org
SUMMARY:Ski Sawmill Refresher
DESCRIPTION:
URL:http://www.nspwar.org/wordpress/event/ski-sawmill-refresher/
LOCATION:Ski Sawmill\, 383 Oregon Hill Rd\, Morris\, PA\, 16938\, United States
CATEGORIES:OEC Refresher
END:VEVENT
BEGIN:VEVENT
DTSTART;TZID=UTC:20191027T080000
DTEND;TZID=UTC:20191027T170000
DTSTAMP:20260420T124553
CREATED:20190406T013854Z
LAST-MODIFIED:20190406T013854Z
UID:618-1572163200-1572195600@www.nspwar.org
SUMMARY:Wisp Refresher
DESCRIPTION:
URL:http://www.nspwar.org/wordpress/event/wisp-refresher/
LOCATION:Wisp\, 296 Marsh Hill Road\, McHenry\, MD\, 21541\, United States
CATEGORIES:OEC Refresher
END:VEVENT
END:VCALENDAR