BEGIN:VCALENDAR
VERSION:2.0
PRODID:-//NSP - Western Appalachian Region - ECPv6.0.1.1//NONSGML v1.0//EN
CALSCALE:GREGORIAN
METHOD:PUBLISH
X-WR-CALNAME:NSP - Western Appalachian Region
X-ORIGINAL-URL:http://www.nspwar.org/wordpress
X-WR-CALDESC:Events for NSP - Western Appalachian Region
REFRESH-INTERVAL;VALUE=DURATION:PT1H
X-Robots-Tag:noindex
X-PUBLISHED-TTL:PT1H
BEGIN:VTIMEZONE
TZID:UTC
BEGIN:STANDARD
TZOFFSETFROM:+0000
TZOFFSETTO:+0000
TZNAME:UTC
DTSTART:20200101T000000
END:STANDARD
TZID:America/New_York
BEGIN:DAYLIGHT
TZOFFSETFROM:-0500
TZOFFSETTO:-0400
TZNAME:EDT
DTSTART:20200308T070000
END:DAYLIGHT
BEGIN:STANDARD
TZOFFSETFROM:-0400
TZOFFSETTO:-0500
TZNAME:EST
DTSTART:20201101T060000
END:STANDARD
END:VTIMEZONE
BEGIN:VEVENT
DTSTART;TZID=UTC:20200105T080000
DTEND;TZID=UTC:20200105T170000
DTSTAMP:20260420T124538
CREATED:20191229T052318Z
LAST-MODIFIED:20191229T052318Z
UID:803-1578211200-1578243600@www.nspwar.org
SUMMARY:Ski Sawmill Toboggan Refresher/Clinic
DESCRIPTION:
URL:http://www.nspwar.org/wordpress/event/ski-sawmill-toboggan-refresher-clinic-2/
LOCATION:Ski Sawmill\, 383 Oregon Hill Rd\, Morris\, PA\, 16938\, United States
CATEGORIES:OET
END:VEVENT
BEGIN:VEVENT
DTSTART;TZID=UTC:20200112T080000
DTEND;TZID=UTC:20200112T120000
DTSTAMP:20260420T124538
CREATED:20191129T191833Z
LAST-MODIFIED:20191129T191833Z
UID:755-1578816000-1578830400@www.nspwar.org
SUMMARY:Senior EMM @ Hidden Valley
DESCRIPTION:Course Number: E286200002
URL:http://www.nspwar.org/wordpress/event/senior-emm-hidden-valley/
LOCATION:Hidden Valley\, 1 Craighead Rd\, Hidden Valley\, PA\, 15502\, United States
END:VEVENT
BEGIN:VEVENT
DTSTART;TZID=UTC:20200112T080000
DTEND;TZID=UTC:20200112T170000
DTSTAMP:20260420T124538
CREATED:20191221T070931Z
LAST-MODIFIED:20200108T005853Z
UID:790-1578816000-1578848400@www.nspwar.org
SUMMARY:OET Senior Clinic @ Seven Springs
DESCRIPTION:Course #: E286200007
URL:http://www.nspwar.org/wordpress/event/oet-senior-clinic-seven-springs-2/
LOCATION:Seven Springs\, 777 Waterwheel Dr\, Seven Springs\, PA\, 15622\, United States
CATEGORIES:Senior OET
ORGANIZER;CN="Eric%20Speedy":MAILTO:Ericspeedy@comcast.net
END:VEVENT
BEGIN:VEVENT
DTSTART;TZID=UTC:20200125T080000
DTEND;TZID=UTC:20200125T170000
DTSTAMP:20260420T124538
CREATED:20191221T070747Z
LAST-MODIFIED:20191229T052636Z
UID:788-1579939200-1579971600@www.nspwar.org
SUMMARY:OET Senior Clinic @ Laurel Mtn
DESCRIPTION:
URL:http://www.nspwar.org/wordpress/event/oet-senior-clinic-laurel-mtn/
LOCATION:Laurel Mountain\, 374 Summit Ski Road\, Boswell\, PA\, 15531\, United States
CATEGORIES:Senior OET
END:VEVENT
BEGIN:VEVENT
DTSTART;TZID=UTC:20200126T080000
DTEND;TZID=UTC:20200126T120000
DTSTAMP:20260420T124538
CREATED:20191129T191953Z
LAST-MODIFIED:20200118T021530Z
UID:757-1580025600-1580040000@www.nspwar.org
SUMMARY:Senior EMM @ Hidden Valley
DESCRIPTION:Course Number: E286200003
URL:http://www.nspwar.org/wordpress/event/senior-emm-wisp/
LOCATION:Hidden Valley\, 1 Craighead Rd\, Hidden Valley\, PA\, 15502\, United States
CATEGORIES:Senior EMM
END:VEVENT
BEGIN:VEVENT
DTSTART;TZID=America/New_York:20200126T080000
DTEND;TZID=America/New_York:20200126T170000
DTSTAMP:20260420T124538
CREATED:20191221T070701Z
LAST-MODIFIED:20191229T054008Z
UID:786-1580025600-1580058000@www.nspwar.org
SUMMARY:Snowboard Clinic A @ Blue Knob
DESCRIPTION:$35 per person/Max. 10 people
URL:http://www.nspwar.org/wordpress/event/snowboard-clinic-blue-knob-2/
LOCATION:Blue Knob\, 1424 Overland Pass\, Claysburg\, PA\, 16625
CATEGORIES:OET
END:VEVENT
END:VCALENDAR