BEGIN:VCALENDAR
VERSION:2.0
PRODID:-//NSP - Western Appalachian Region - ECPv6.0.1.1//NONSGML v1.0//EN
CALSCALE:GREGORIAN
METHOD:PUBLISH
X-ORIGINAL-URL:http://www.nspwar.org/wordpress
X-WR-CALDESC:Events for NSP - Western Appalachian Region
REFRESH-INTERVAL;VALUE=DURATION:PT1H
X-Robots-Tag:noindex
X-PUBLISHED-TTL:PT1H
BEGIN:VTIMEZONE
TZID:America/New_York
BEGIN:DAYLIGHT
TZOFFSETFROM:-0500
TZOFFSETTO:-0400
TZNAME:EDT
DTSTART:20240310T070000
END:DAYLIGHT
BEGIN:STANDARD
TZOFFSETFROM:-0400
TZOFFSETTO:-0500
TZNAME:EST
DTSTART:20241103T060000
END:STANDARD
END:VTIMEZONE
BEGIN:VEVENT
DTSTART;TZID=America/New_York:20241005T080000
DTEND;TZID=America/New_York:20241005T170000
DTSTAMP:20260420T003208
CREATED:20230520T173614Z
LAST-MODIFIED:20240718T155140Z
UID:1253-1728115200-1728147600@www.nspwar.org
SUMMARY:7S/HV/LM Refresher at Hidden Valley
DESCRIPTION:
URL:http://www.nspwar.org/wordpress/event/seven-spring-refresher/
LOCATION:Hidden Valley\, 1 Craighead Rd\, Hidden Valley\, PA\, 15502\, United States
CATEGORIES:OEC Refresher
END:VEVENT
BEGIN:VEVENT
DTSTART;TZID=America/New_York:20241006T080000
DTEND;TZID=America/New_York:20241006T170000
DTSTAMP:20260420T003208
CREATED:20230520T173528Z
LAST-MODIFIED:20240606T001021Z
UID:1251-1728201600-1728234000@www.nspwar.org
SUMMARY:Blue Knob Refresher
DESCRIPTION:
URL:http://www.nspwar.org/wordpress/event/blue-knob-refresher-2/
LOCATION:Blue Knob\, 1424 Overland Pass\, Claysburg\, PA\, 16625
CATEGORIES:OEC Refresher
END:VEVENT
BEGIN:VEVENT
DTSTART;TZID=America/New_York:20241012T080000
DTEND;TZID=America/New_York:20241012T170000
DTSTAMP:20260420T003208
CREATED:20220510T121551Z
LAST-MODIFIED:20240718T155051Z
UID:1080-1728720000-1728752400@www.nspwar.org
SUMMARY:7S/HV/LM Refresher @ Hidden Valley Resort
DESCRIPTION:
URL:http://www.nspwar.org/wordpress/event/hidden-valley-oec-refresher-2/
LOCATION:Hidden Valley\, 1 Craighead Rd\, Hidden Valley\, PA\, 15502\, United States
CATEGORIES:OEC Refresher
END:VEVENT
BEGIN:VEVENT
DTSTART;TZID=America/New_York:20241020T080000
DTEND;TZID=America/New_York:20241020T170000
DTSTAMP:20260420T003208
CREATED:20240606T001802Z
LAST-MODIFIED:20240606T001802Z
UID:1379-1729411200-1729443600@www.nspwar.org
SUMMARY:Ski Sawmill Refresher
DESCRIPTION:
URL:http://www.nspwar.org/wordpress/event/ski-sawmill-refresher-3/
LOCATION:Ski Sawmill\, 383 Oregon Hill Rd\, Morris\, PA\, 16938\, United States
CATEGORIES:OEC Refresher
END:VEVENT
BEGIN:VEVENT
DTSTART;TZID=America/New_York:20241026T080000
DTEND;TZID=America/New_York:20241026T120000
DTSTAMP:20260420T003208
CREATED:20240901T120954Z
LAST-MODIFIED:20240901T120954Z
UID:1438-1729929600-1729944000@www.nspwar.org
SUMMARY:Senior EMM Clinic - Hidden Valley
DESCRIPTION:
URL:http://www.nspwar.org/wordpress/event/senior-emm-clinic-hidden-valley-4/
LOCATION:Hidden Valley\, 1 Craighead Rd\, Hidden Valley\, PA\, 15502\, United States
CATEGORIES:Senior EMM
END:VEVENT
END:VCALENDAR